BEGIN:VCALENDAR
VERSION:2.0
PRODID:-//Creature Farm - ECPv6.15.20//NONSGML v1.0//EN
CALSCALE:GREGORIAN
METHOD:PUBLISH
X-WR-CALNAME:Creature Farm
X-ORIGINAL-URL:https://creaturefarmanimals.com
X-WR-CALDESC:Events for Creature Farm
REFRESH-INTERVAL;VALUE=DURATION:PT1H
X-Robots-Tag:noindex
X-PUBLISHED-TTL:PT1H
BEGIN:VTIMEZONE
TZID:UTC
BEGIN:STANDARD
TZOFFSETFROM:+0000
TZOFFSETTO:+0000
TZNAME:UTC
DTSTART:20250101T000000
END:STANDARD
END:VTIMEZONE
BEGIN:VEVENT
DTSTART;TZID=UTC:20260128T093000
DTEND;TZID=UTC:20260128T113000
DTSTAMP:20260423T010655
CREATED:20260115T181319Z
LAST-MODIFIED:20260115T181319Z
UID:5823-1769592600-1769599800@creaturefarmanimals.com
SUMMARY:Dularge Elementary School Event
DESCRIPTION:
URL:https://creaturefarmanimals.com/event/dularge-elementary-school-event/
LOCATION:Dularge Elementary School
CATEGORIES:Private Event
END:VEVENT
BEGIN:VEVENT
DTSTART;VALUE=DATE:20260131
DTEND;VALUE=DATE:20260201
DTSTAMP:20260423T010655
CREATED:20260115T174036Z
LAST-MODIFIED:20260115T174036Z
UID:5799-1769817600-1769903999@creaturefarmanimals.com
SUMMARY:World Wetlands Day Event
DESCRIPTION:
URL:https://creaturefarmanimals.com/event/world-wetlands-day-event/
LOCATION:Terrebonne Parish Main Branch Library
CATEGORIES:Public Event (Booked)
END:VEVENT
END:VCALENDAR