BEGIN:VCALENDAR
VERSION:2.0
PRODID:-//Creature Farm - ECPv6.15.20//NONSGML v1.0//EN
CALSCALE:GREGORIAN
METHOD:PUBLISH
X-ORIGINAL-URL:https://creaturefarmanimals.com
X-WR-CALDESC:Events for Creature Farm
REFRESH-INTERVAL;VALUE=DURATION:PT1H
X-Robots-Tag:noindex
X-PUBLISHED-TTL:PT1H
BEGIN:VTIMEZONE
TZID:UTC
BEGIN:STANDARD
TZOFFSETFROM:+0000
TZOFFSETTO:+0000
TZNAME:UTC
DTSTART:20240101T000000
END:STANDARD
END:VTIMEZONE
BEGIN:VEVENT
DTSTART;VALUE=DATE:20251121
DTEND;VALUE=DATE:20251124
DTSTAMP:20260423T043306
CREATED:20241018T162014Z
LAST-MODIFIED:20241228T013203Z
UID:3376-1763683200-1763942399@creaturefarmanimals.com
SUMMARY:NARBC St. Louis
DESCRIPTION:NARBC Reptile Expo in St. Louis\, Missouri (VENDOR)\nhttps://www.narbc.com/StLouis/location_narbc_stlouis.html
URL:https://creaturefarmanimals.com/event/narbc-st-louis-2025/
LOCATION:St. Charles Convention Center\, 1 Convention Center Plaza\, St. Charles\, Missouri\, 63303
CATEGORIES:Reptile Expo
END:VEVENT
END:VCALENDAR