BEGIN:VCALENDAR
VERSION:2.0
PRODID:-//Creature Farm - ECPv6.15.20//NONSGML v1.0//EN
CALSCALE:GREGORIAN
METHOD:PUBLISH
X-ORIGINAL-URL:https://creaturefarmanimals.com
X-WR-CALDESC:Events for Creature Farm
REFRESH-INTERVAL;VALUE=DURATION:PT1H
X-Robots-Tag:noindex
X-PUBLISHED-TTL:PT1H
BEGIN:VTIMEZONE
TZID:UTC
BEGIN:STANDARD
TZOFFSETFROM:+0000
TZOFFSETTO:+0000
TZNAME:UTC
DTSTART:20230101T000000
END:STANDARD
END:VTIMEZONE
BEGIN:VEVENT
DTSTART;TZID=UTC:20250205T103000
DTEND;TZID=UTC:20250205T113000
DTSTAMP:20260423T040321
CREATED:20250103T191236Z
LAST-MODIFIED:20250103T191236Z
UID:3751-1738751400-1738755000@creaturefarmanimals.com
SUMMARY:Homeschool Creature Class
DESCRIPTION:
URL:https://creaturefarmanimals.com/event/homeschool-creature-class/
LOCATION:Bayou Country Children’s Museum\, 211 Rue Betancourt\, Thibodaux\, Louisiana\, 70301
CATEGORIES:Creature Class
END:VEVENT
BEGIN:VEVENT
DTSTART;TZID=UTC:20250204T091500
DTEND;TZID=UTC:20250204T101500
DTSTAMP:20260423T040321
CREATED:20250202T035500Z
LAST-MODIFIED:20250202T035500Z
UID:4224-1738660500-1738664100@creaturefarmanimals.com
SUMMARY:Country Kids Preschool Event
DESCRIPTION:
URL:https://creaturefarmanimals.com/event/country-kids-preschool-event/
LOCATION:Country Kids Preschool
CATEGORIES:Private Event
END:VEVENT
BEGIN:VEVENT
DTSTART;VALUE=DATE:20241214
DTEND;VALUE=DATE:20241216
DTSTAMP:20260423T040321
CREATED:20241007T211042Z
LAST-MODIFIED:20241007T211042Z
UID:3351-1734134400-1734307199@creaturefarmanimals.com
SUMMARY:HERPS Slidell\, LA (Reptile Expo)
DESCRIPTION:HERPS Slidell\, LA Reptile Expo (Vendor) \nhttps://www.herpshow.net/
URL:https://creaturefarmanimals.com/event/herps-slidell-la-reptile-expo/
LOCATION:The Harbor Center\, ‍100 Harbor Center Blvd\, Slidell\, Louisiana\, 70461
CATEGORIES:Reptile Expo
END:VEVENT
BEGIN:VEVENT
DTSTART;TZID=UTC:20241211T103000
DTEND;TZID=UTC:20241211T233000
DTSTAMP:20260423T040321
CREATED:20241008T210229Z
LAST-MODIFIED:20241008T210229Z
UID:3357-1733913000-1733959800@creaturefarmanimals.com
SUMMARY:Creature Class at BCCM
DESCRIPTION:GET TICKETS: https://creaturefarmanimals.com/product/creature-class/ \n 
URL:https://creaturefarmanimals.com/event/creature-class-at-bccm-2/
LOCATION:Bayou Country Children’s Museum\, 211 Rue Betancourt\, Thibodaux\, Louisiana\, 70301
END:VEVENT
BEGIN:VEVENT
DTSTART;VALUE=DATE:20241108
DTEND;VALUE=DATE:20241111
DTSTAMP:20260423T040321
CREATED:20241007T210751Z
LAST-MODIFIED:20241007T210751Z
UID:3348-1731024000-1731283199@creaturefarmanimals.com
SUMMARY:NARBC St. Louis
DESCRIPTION:NARBC Reptile Expo in St. Louis\, Missouri (VENDOR)\nhttps://www.narbc.com/StLouis/location_narbc_stlouis.html
URL:https://creaturefarmanimals.com/event/narbc-st-louis/
LOCATION:St. Charles Convention Center\, 1 Convention Center Plaza\, St. Charles\, Missouri\, 63303
CATEGORIES:Reptile Expo
END:VEVENT
BEGIN:VEVENT
DTSTART;TZID=UTC:20241026T103000
DTEND;TZID=UTC:20241026T103000
DTSTAMP:20260423T040321
CREATED:20241007T210338Z
LAST-MODIFIED:20241007T210338Z
UID:3344-1729938600-1729938600@creaturefarmanimals.com
SUMMARY:Creepy Crawlies & Candy - Halloween Animal Encounter
DESCRIPTION:
URL:https://creaturefarmanimals.com/event/creepy-crawlies-candy-halloween-animal-encounter/
LOCATION:Paisley Park Resale\, 6861 W Park Ave\, Houma\, Louisiana\, 70360
CATEGORIES:Public Event (Hosted)
END:VEVENT
BEGIN:VEVENT
DTSTART;TZID=UTC:20241023T103000
DTEND;TZID=UTC:20241023T113000
DTSTAMP:20260423T040321
CREATED:20241007T205845Z
LAST-MODIFIED:20241008T205811Z
UID:3341-1729679400-1729683000@creaturefarmanimals.com
SUMMARY:Creature Class at BCCM
DESCRIPTION:GET TICKETS: https://creaturefarmanimals.com/product-category/event-tickets/
URL:https://creaturefarmanimals.com/event/creature-class-at-bccm/
LOCATION:Bayou Country Children’s Museum\, 211 Rue Betancourt\, Thibodaux\, Louisiana\, 70301
END:VEVENT
BEGIN:VEVENT
DTSTART;TZID=UTC:20241014T143000
DTEND;TZID=UTC:20241014T153000
DTSTAMP:20260423T040321
CREATED:20241007T205212Z
LAST-MODIFIED:20241007T205212Z
UID:3337-1728916200-1728919800@creaturefarmanimals.com
SUMMARY:Bayou Vista - St. Mary Parish Library Show
DESCRIPTION:Library Animal Show
URL:https://creaturefarmanimals.com/event/bayou-vista-st-mary-parish-library-show/
LOCATION:Bayou Vista Branch Library\, 1325 Bellview St\, Morgan City\,\, Louisiana\, 70380
CATEGORIES:Public Event (Booked)
END:VEVENT
BEGIN:VEVENT
DTSTART;TZID=UTC:20241014T103000
DTEND;TZID=UTC:20241014T233000
DTSTAMP:20260423T040321
CREATED:20241007T204928Z
LAST-MODIFIED:20241007T204928Z
UID:3334-1728901800-1728948600@creaturefarmanimals.com
SUMMARY:Patterson - St. Mary Parish Library Show
DESCRIPTION:Library Animal Show
URL:https://creaturefarmanimals.com/event/patterson-st-mary-parish-library-show/
LOCATION:Patterson Branch Library\, 521 Catherine St\, Patterson\, Louisiana\, 70392
CATEGORIES:Public Event (Booked)
END:VEVENT
BEGIN:VEVENT
DTSTART;TZID=UTC:20241012T100000
DTEND;TZID=UTC:20241012T170000
DTSTAMP:20260423T040321
CREATED:20241007T204553Z
LAST-MODIFIED:20241007T205342Z
UID:3330-1728727200-1728752400@creaturefarmanimals.com
SUMMARY:Bayou Arts Fest
DESCRIPTION:Public Animal Encounter & Educational Event
URL:https://creaturefarmanimals.com/event/bayou-arts-fest/
LOCATION:Downtown Houma (Kids Zone)\, Houma\, Louisiana
CATEGORIES:Public Event (Booked)
END:VEVENT
END:VCALENDAR