BEGIN:VCALENDAR
VERSION:2.0
PRODID:-//Creature Farm - ECPv6.15.20//NONSGML v1.0//EN
CALSCALE:GREGORIAN
METHOD:PUBLISH
X-WR-CALNAME:Creature Farm
X-ORIGINAL-URL:https://creaturefarmanimals.com
X-WR-CALDESC:Events for Creature Farm
REFRESH-INTERVAL;VALUE=DURATION:PT1H
X-Robots-Tag:noindex
X-PUBLISHED-TTL:PT1H
BEGIN:VTIMEZONE
TZID:UTC
BEGIN:STANDARD
TZOFFSETFROM:+0000
TZOFFSETTO:+0000
TZNAME:UTC
DTSTART:20250101T000000
END:STANDARD
END:VTIMEZONE
BEGIN:VEVENT
DTSTART;VALUE=DATE:20260822
DTEND;VALUE=DATE:20260824
DTSTAMP:20260423T053443
CREATED:20260115T175047Z
LAST-MODIFIED:20260115T175047Z
UID:5809-1787356800-1787529599@creaturefarmanimals.com
SUMMARY:HERPS Baton Rouge (Gonzales)
DESCRIPTION:
URL:https://creaturefarmanimals.com/event/herps-gonzales-2/
LOCATION:Lamar Dixon Expo Center\, ‍9039 S St Landry Ave\, Gonzales\, Louisiana\, 70737
CATEGORIES:Reptile Expo
END:VEVENT
BEGIN:VEVENT
DTSTART;VALUE=DATE:20260918
DTEND;VALUE=DATE:20260921
DTSTAMP:20260423T053443
CREATED:20260115T175720Z
LAST-MODIFIED:20260115T175720Z
UID:5817-1789689600-1789948799@creaturefarmanimals.com
SUMMARY:NARBC Dallas
DESCRIPTION:
URL:https://creaturefarmanimals.com/event/narbc-dallas-2/
LOCATION:Dallas Market Hall\, 2200 N Stemmons Fwy\, Dallas\, TX\, 75207
CATEGORIES:Reptile Expo
END:VEVENT
BEGIN:VEVENT
DTSTART;VALUE=DATE:20261009
DTEND;VALUE=DATE:20261012
DTSTAMP:20260423T053443
CREATED:20260115T175516Z
LAST-MODIFIED:20260115T175516Z
UID:5815-1791504000-1791763199@creaturefarmanimals.com
SUMMARY:NARBC Tinley
DESCRIPTION:
URL:https://creaturefarmanimals.com/event/narbc-tinley-2/
LOCATION:Tinley Park Convention Center
CATEGORIES:Reptile Expo
END:VEVENT
BEGIN:VEVENT
DTSTART;VALUE=DATE:20261017
DTEND;VALUE=DATE:20261019
DTSTAMP:20260423T053443
CREATED:20260115T175315Z
LAST-MODIFIED:20260115T175315Z
UID:5813-1792195200-1792367999@creaturefarmanimals.com
SUMMARY:HERPS Alexandria
DESCRIPTION:
URL:https://creaturefarmanimals.com/event/herps-alexandria-2/
CATEGORIES:Reptile Expo
END:VEVENT
BEGIN:VEVENT
DTSTART;VALUE=DATE:20261212
DTEND;VALUE=DATE:20261214
DTSTAMP:20260423T053443
CREATED:20260115T175147Z
LAST-MODIFIED:20260115T175147Z
UID:5811-1797033600-1797206399@creaturefarmanimals.com
SUMMARY:HERPS Slidell
DESCRIPTION:
URL:https://creaturefarmanimals.com/event/herps-slidell-2-2/
LOCATION:The Harbor Center\, ‍100 Harbor Center Blvd\, Slidell\, Louisiana\, 70461
CATEGORIES:Reptile Expo
END:VEVENT
END:VCALENDAR