BEGIN:VCALENDAR
VERSION:2.0
PRODID:-//Creature Farm - ECPv6.15.20//NONSGML v1.0//EN
CALSCALE:GREGORIAN
METHOD:PUBLISH
X-ORIGINAL-URL:https://creaturefarmanimals.com
X-WR-CALDESC:Events for Creature Farm
REFRESH-INTERVAL;VALUE=DURATION:PT1H
X-Robots-Tag:noindex
X-PUBLISHED-TTL:PT1H
BEGIN:VTIMEZONE
TZID:UTC
BEGIN:STANDARD
TZOFFSETFROM:+0000
TZOFFSETTO:+0000
TZNAME:UTC
DTSTART:20230101T000000
END:STANDARD
END:VTIMEZONE
BEGIN:VEVENT
DTSTART;VALUE=DATE:20260411
DTEND;VALUE=DATE:20260413
DTSTAMP:20260424T185353
CREATED:20260115T174307Z
LAST-MODIFIED:20260115T174458Z
UID:5801-1775865600-1776038399@creaturefarmanimals.com
SUMMARY:HERPS Slidell
DESCRIPTION:
URL:https://creaturefarmanimals.com/event/herps-slidell/
LOCATION:The Harbor Center\, ‍100 Harbor Center Blvd\, Slidell\, Louisiana\, 70461
CATEGORIES:Reptile Expo
END:VEVENT
BEGIN:VEVENT
DTSTART;VALUE=DATE:20260328
DTEND;VALUE=DATE:20260330
DTSTAMP:20260424T185353
CREATED:20260115T172532Z
LAST-MODIFIED:20260115T173234Z
UID:5797-1774656000-1774828799@creaturefarmanimals.com
SUMMARY:HERPS Alexandria
DESCRIPTION:
URL:https://creaturefarmanimals.com/event/herps-alexandria/
CATEGORIES:Reptile Expo
END:VEVENT
BEGIN:VEVENT
DTSTART;VALUE=DATE:20260313
DTEND;VALUE=DATE:20260316
DTSTAMP:20260424T185354
CREATED:20260115T172424Z
LAST-MODIFIED:20260115T175543Z
UID:5795-1773360000-1773619199@creaturefarmanimals.com
SUMMARY:NARBC Tinley
DESCRIPTION:
URL:https://creaturefarmanimals.com/event/narbc-tinley/
LOCATION:Tinley Park Convention Center
CATEGORIES:Reptile Expo
END:VEVENT
BEGIN:VEVENT
DTSTART;VALUE=DATE:20260306
DTEND;VALUE=DATE:20260309
DTSTAMP:20260424T185354
CREATED:20260115T172318Z
LAST-MODIFIED:20260115T172318Z
UID:5793-1772755200-1773014399@creaturefarmanimals.com
SUMMARY:NARBC Dallas
DESCRIPTION:
URL:https://creaturefarmanimals.com/event/narbc-dallas/
LOCATION:Dallas Market Hall\, 2200 N Stemmons Fwy\, Dallas\, TX\, 75207
CATEGORIES:Reptile Expo
END:VEVENT
BEGIN:VEVENT
DTSTART;VALUE=DATE:20260228
DTEND;VALUE=DATE:20260302
DTSTAMP:20260424T185354
CREATED:20260115T172153Z
LAST-MODIFIED:20260115T175015Z
UID:5791-1772236800-1772409599@creaturefarmanimals.com
SUMMARY:HERPS Baton Rouge (Gonzales)
DESCRIPTION:
URL:https://creaturefarmanimals.com/event/herps-gonzales/
LOCATION:Lamar Dixon Expo Center\, ‍9039 S St Landry Ave\, Gonzales\, Louisiana\, 70737
CATEGORIES:Reptile Expo
END:VEVENT
BEGIN:VEVENT
DTSTART;VALUE=DATE:20251213
DTEND;VALUE=DATE:20251215
DTSTAMP:20260424T185354
CREATED:20241228T014426Z
LAST-MODIFIED:20241228T014426Z
UID:3714-1765584000-1765756799@creaturefarmanimals.com
SUMMARY:HERPS Slidell\, LA (Reptile Expo)
DESCRIPTION:HERPS Slidell\, LA Reptile Expo (Vendor) \nhttps://www.herpshow.net/
URL:https://creaturefarmanimals.com/event/herps-slidell-la-reptile-expo-2-2-2/
LOCATION:The Harbor Center\, ‍100 Harbor Center Blvd\, Slidell\, Louisiana\, 70461
CATEGORIES:Reptile Expo
END:VEVENT
BEGIN:VEVENT
DTSTART;VALUE=DATE:20251121
DTEND;VALUE=DATE:20251124
DTSTAMP:20260424T185354
CREATED:20241018T162014Z
LAST-MODIFIED:20241228T013203Z
UID:3376-1763683200-1763942399@creaturefarmanimals.com
SUMMARY:NARBC St. Louis
DESCRIPTION:NARBC Reptile Expo in St. Louis\, Missouri (VENDOR)\nhttps://www.narbc.com/StLouis/location_narbc_stlouis.html
URL:https://creaturefarmanimals.com/event/narbc-st-louis-2025/
LOCATION:St. Charles Convention Center\, 1 Convention Center Plaza\, St. Charles\, Missouri\, 63303
CATEGORIES:Reptile Expo
END:VEVENT
BEGIN:VEVENT
DTSTART;VALUE=DATE:20251010
DTEND;VALUE=DATE:20251013
DTSTAMP:20260424T185354
CREATED:20250326T203103Z
LAST-MODIFIED:20250326T203103Z
UID:4336-1760054400-1760313599@creaturefarmanimals.com
SUMMARY:NARBC Tinley Park\, IL
DESCRIPTION:NARBC Reptile Expo in Tinley Park\, IL (VENDOR) (Expo Website)
URL:https://creaturefarmanimals.com/event/narbc-tinley-park-il-2/
LOCATION:Tinley Park Convention Center
CATEGORIES:Reptile Expo
END:VEVENT
BEGIN:VEVENT
DTSTART;VALUE=DATE:20250905
DTEND;VALUE=DATE:20250908
DTSTAMP:20260424T185354
CREATED:20241228T013323Z
LAST-MODIFIED:20241228T013323Z
UID:3707-1757030400-1757289599@creaturefarmanimals.com
SUMMARY:NARBC Dallas\, TX
DESCRIPTION:NARBC Pet Expo in Dallas\, TX (VENDOR) (Expo Website)
URL:https://creaturefarmanimals.com/event/narbc-st-louis-2025-2-2/
LOCATION:Dallas Market Hall\, 2200 N Stemmons Fwy\, Dallas\, TX\, 75207
CATEGORIES:Reptile Expo
END:VEVENT
BEGIN:VEVENT
DTSTART;VALUE=DATE:20250823
DTEND;VALUE=DATE:20250825
DTSTAMP:20260424T185354
CREATED:20241228T013131Z
LAST-MODIFIED:20241228T013131Z
UID:3705-1755907200-1756079999@creaturefarmanimals.com
SUMMARY:HERPS Baton Rouge\, LA (Reptile Expo)
DESCRIPTION:HERPS Baton Rouge\, LA Reptile Expo (Vendor) \nhttps://www.herpshow.net/
URL:https://creaturefarmanimals.com/event/herps-baton-rouge-la-reptile-expo-2/
LOCATION:Lamar Dixon Expo Center\, ‍9039 S St Landry Ave\, Gonzales\, Louisiana\, 70737
CATEGORIES:Reptile Expo
END:VEVENT
BEGIN:VEVENT
DTSTART;VALUE=DATE:20250809
DTEND;VALUE=DATE:20250811
DTSTAMP:20260424T185354
CREATED:20250326T204913Z
LAST-MODIFIED:20250326T204913Z
UID:4342-1754697600-1754870399@creaturefarmanimals.com
SUMMARY:Southeast Reptile Expo (Atlanta\, GA)
DESCRIPTION:
URL:https://creaturefarmanimals.com/event/southeast-reptile-expo-atlanta-ga-2/
CATEGORIES:Reptile Expo
END:VEVENT
BEGIN:VEVENT
DTSTART;VALUE=DATE:20250719
DTEND;VALUE=DATE:20250721
DTSTAMP:20260424T185354
CREATED:20241228T012950Z
LAST-MODIFIED:20241228T012950Z
UID:3703-1752883200-1753055999@creaturefarmanimals.com
SUMMARY:HERPS Slidell\, LA (Reptile Expo)
DESCRIPTION:HERPS Slidell\, LA Reptile Expo (Vendor) \nhttps://www.herpshow.net/
URL:https://creaturefarmanimals.com/event/herps-slidell-la-reptile-expo-2-2/
LOCATION:The Harbor Center\, ‍100 Harbor Center Blvd\, Slidell\, Louisiana\, 70461
CATEGORIES:Reptile Expo
END:VEVENT
BEGIN:VEVENT
DTSTART;VALUE=DATE:20250405
DTEND;VALUE=DATE:20250407
DTSTAMP:20260424T185354
CREATED:20241228T012847Z
LAST-MODIFIED:20241228T012847Z
UID:3701-1743811200-1743983999@creaturefarmanimals.com
SUMMARY:HERPS Slidell\, LA (Reptile Expo)
DESCRIPTION:HERPS Slidell\, LA Reptile Expo (Vendor) \nhttps://www.herpshow.net/
URL:https://creaturefarmanimals.com/event/herps-slidell-la-reptile-expo-2/
LOCATION:The Harbor Center\, ‍100 Harbor Center Blvd\, Slidell\, Louisiana\, 70461
CATEGORIES:Reptile Expo
END:VEVENT
BEGIN:VEVENT
DTSTART;VALUE=DATE:20250328
DTEND;VALUE=DATE:20250331
DTSTAMP:20260424T185354
CREATED:20241228T012628Z
LAST-MODIFIED:20241228T013226Z
UID:3697-1743120000-1743379199@creaturefarmanimals.com
SUMMARY:NARBC Dallas\, TX
DESCRIPTION:NARBC Pet Expo in Dallas\, TX (VENDOR) (Expo Website)
URL:https://creaturefarmanimals.com/event/narbc-st-louis-2025-2/
LOCATION:Dallas Market Hall\, 2200 N Stemmons Fwy\, Dallas\, TX\, 75207
CATEGORIES:Reptile Expo
END:VEVENT
BEGIN:VEVENT
DTSTART;VALUE=DATE:20250314
DTEND;VALUE=DATE:20250317
DTSTAMP:20260424T185354
CREATED:20250202T034902Z
LAST-MODIFIED:20250202T034902Z
UID:4214-1741910400-1742169599@creaturefarmanimals.com
SUMMARY:NARBC Tinley Park\, IL
DESCRIPTION:NARBC Reptile Expo in Tinley Park\, IL (VENDOR) (Expo Website)
URL:https://creaturefarmanimals.com/event/narbc-tinley-park-il/
LOCATION:Tinley Park Convention Center
CATEGORIES:Reptile Expo
END:VEVENT
BEGIN:VEVENT
DTSTART;VALUE=DATE:20250301
DTEND;VALUE=DATE:20250303
DTSTAMP:20260424T185354
CREATED:20241008T211056Z
LAST-MODIFIED:20241228T013226Z
UID:3360-1740787200-1740959999@creaturefarmanimals.com
SUMMARY:HERPS Baton Rouge\, LA (Reptile Expo)
DESCRIPTION:HERPS Baton Rouge\, LA Reptile Expo (Vendor) \nhttps://www.herpshow.net/
URL:https://creaturefarmanimals.com/event/herps-baton-rouge-la-reptile-expo/
LOCATION:Lamar Dixon Expo Center\, ‍9039 S St Landry Ave\, Gonzales\, Louisiana\, 70737
CATEGORIES:Reptile Expo
END:VEVENT
BEGIN:VEVENT
DTSTART;VALUE=DATE:20250215
DTEND;VALUE=DATE:20250217
DTSTAMP:20260424T185354
CREATED:20241113T172040Z
LAST-MODIFIED:20241228T013226Z
UID:3516-1739577600-1739750399@creaturefarmanimals.com
SUMMARY:Southeast Reptile Expo (Atlanta\, GA)
DESCRIPTION:
URL:https://creaturefarmanimals.com/event/southeast-reptile-expo-atlanta-ga/
CATEGORIES:Reptile Expo
END:VEVENT
BEGIN:VEVENT
DTSTART;VALUE=DATE:20241214
DTEND;VALUE=DATE:20241216
DTSTAMP:20260424T185354
CREATED:20241007T211042Z
LAST-MODIFIED:20241007T211042Z
UID:3351-1734134400-1734307199@creaturefarmanimals.com
SUMMARY:HERPS Slidell\, LA (Reptile Expo)
DESCRIPTION:HERPS Slidell\, LA Reptile Expo (Vendor) \nhttps://www.herpshow.net/
URL:https://creaturefarmanimals.com/event/herps-slidell-la-reptile-expo/
LOCATION:The Harbor Center\, ‍100 Harbor Center Blvd\, Slidell\, Louisiana\, 70461
CATEGORIES:Reptile Expo
END:VEVENT
BEGIN:VEVENT
DTSTART;VALUE=DATE:20241108
DTEND;VALUE=DATE:20241111
DTSTAMP:20260424T185354
CREATED:20241007T210751Z
LAST-MODIFIED:20241007T210751Z
UID:3348-1731024000-1731283199@creaturefarmanimals.com
SUMMARY:NARBC St. Louis
DESCRIPTION:NARBC Reptile Expo in St. Louis\, Missouri (VENDOR)\nhttps://www.narbc.com/StLouis/location_narbc_stlouis.html
URL:https://creaturefarmanimals.com/event/narbc-st-louis/
LOCATION:St. Charles Convention Center\, 1 Convention Center Plaza\, St. Charles\, Missouri\, 63303
CATEGORIES:Reptile Expo
END:VEVENT
END:VCALENDAR