BEGIN:VCALENDAR
VERSION:2.0
PRODID:-//Creature Farm - ECPv6.15.20//NONSGML v1.0//EN
CALSCALE:GREGORIAN
METHOD:PUBLISH
X-ORIGINAL-URL:https://creaturefarmanimals.com
X-WR-CALDESC:Events for Creature Farm
REFRESH-INTERVAL;VALUE=DURATION:PT1H
X-Robots-Tag:noindex
X-PUBLISHED-TTL:PT1H
BEGIN:VTIMEZONE
TZID:UTC
BEGIN:STANDARD
TZOFFSETFROM:+0000
TZOFFSETTO:+0000
TZNAME:UTC
DTSTART:20240101T000000
END:STANDARD
END:VTIMEZONE
BEGIN:VEVENT
DTSTART;VALUE=DATE:20251010
DTEND;VALUE=DATE:20251013
DTSTAMP:20260425T041026
CREATED:20250326T203103Z
LAST-MODIFIED:20250326T203103Z
UID:4336-1760054400-1760313599@creaturefarmanimals.com
SUMMARY:NARBC Tinley Park\, IL
DESCRIPTION:NARBC Reptile Expo in Tinley Park\, IL (VENDOR) (Expo Website)
URL:https://creaturefarmanimals.com/event/narbc-tinley-park-il-2/
LOCATION:Tinley Park Convention Center
CATEGORIES:Reptile Expo
END:VEVENT
END:VCALENDAR