BEGIN:VCALENDAR
VERSION:2.0
PRODID:-//Creature Farm - ECPv6.15.20//NONSGML v1.0//EN
CALSCALE:GREGORIAN
METHOD:PUBLISH
X-ORIGINAL-URL:https://creaturefarmanimals.com
X-WR-CALDESC:Events for Creature Farm
REFRESH-INTERVAL;VALUE=DURATION:PT1H
X-Robots-Tag:noindex
X-PUBLISHED-TTL:PT1H
BEGIN:VTIMEZONE
TZID:UTC
BEGIN:STANDARD
TZOFFSETFROM:+0000
TZOFFSETTO:+0000
TZNAME:UTC
DTSTART:20250101T000000
END:STANDARD
END:VTIMEZONE
BEGIN:VEVENT
DTSTART;VALUE=DATE:20260613
DTEND;VALUE=DATE:20260615
DTSTAMP:20260423T003541
CREATED:20260115T174649Z
LAST-MODIFIED:20260115T174649Z
UID:5803-1781308800-1781481599@creaturefarmanimals.com
SUMMARY:HERPS Conroe
DESCRIPTION:
URL:https://creaturefarmanimals.com/event/herps-conroe/
LOCATION:Lonestar Convention Center\, Conroe\, TX\, United States
CATEGORIES:Reptile Expo
END:VEVENT
END:VCALENDAR