BEGIN:VCALENDAR
VERSION:2.0
PRODID:-//Creature Farm - ECPv6.15.20//NONSGML v1.0//EN
CALSCALE:GREGORIAN
METHOD:PUBLISH
X-WR-CALNAME:Creature Farm
X-ORIGINAL-URL:https://creaturefarmanimals.com
X-WR-CALDESC:Events for Creature Farm
REFRESH-INTERVAL;VALUE=DURATION:PT1H
X-Robots-Tag:noindex
X-PUBLISHED-TTL:PT1H
BEGIN:VTIMEZONE
TZID:UTC
BEGIN:STANDARD
TZOFFSETFROM:+0000
TZOFFSETTO:+0000
TZNAME:UTC
DTSTART:20250101T000000
END:STANDARD
END:VTIMEZONE
BEGIN:VEVENT
DTSTART;VALUE=DATE:20260313
DTEND;VALUE=DATE:20260316
DTSTAMP:20260422T232908
CREATED:20260115T172424Z
LAST-MODIFIED:20260115T175543Z
UID:5795-1773360000-1773619199@creaturefarmanimals.com
SUMMARY:NARBC Tinley
DESCRIPTION:
URL:https://creaturefarmanimals.com/event/narbc-tinley/
LOCATION:Tinley Park Convention Center
CATEGORIES:Reptile Expo
END:VEVENT
END:VCALENDAR