BEGIN:VCALENDAR
VERSION:2.0
PRODID:-//Creature Farm - ECPv6.15.20//NONSGML v1.0//EN
CALSCALE:GREGORIAN
METHOD:PUBLISH
X-WR-CALNAME:Creature Farm
X-ORIGINAL-URL:https://creaturefarmanimals.com
X-WR-CALDESC:Events for Creature Farm
REFRESH-INTERVAL;VALUE=DURATION:PT1H
X-Robots-Tag:noindex
X-PUBLISHED-TTL:PT1H
BEGIN:VTIMEZONE
TZID:UTC
BEGIN:STANDARD
TZOFFSETFROM:+0000
TZOFFSETTO:+0000
TZNAME:UTC
DTSTART:20240101T000000
END:STANDARD
END:VTIMEZONE
BEGIN:VEVENT
DTSTART;VALUE=DATE:20251213
DTEND;VALUE=DATE:20251215
DTSTAMP:20260423T043211
CREATED:20241228T014426Z
LAST-MODIFIED:20241228T014426Z
UID:3714-1765584000-1765756799@creaturefarmanimals.com
SUMMARY:HERPS Slidell\, LA (Reptile Expo)
DESCRIPTION:HERPS Slidell\, LA Reptile Expo (Vendor) \nhttps://www.herpshow.net/
URL:https://creaturefarmanimals.com/event/herps-slidell-la-reptile-expo-2-2-2/
LOCATION:The Harbor Center\, ‍100 Harbor Center Blvd\, Slidell\, Louisiana\, 70461
CATEGORIES:Reptile Expo
END:VEVENT
END:VCALENDAR